BEGIN:VCALENDAR
VERSION:2.0
PRODID:SchoolNow
CALSCALE:GREGORIAN
BEGIN:VEVENT
UID:f3cd7f54-28a7-11e9-99a6-0a4660c7bbbc
DTSTAMP:20190204T180902Z
SUMMARY:Second MMR Staff Vaccination Clinic
LOCATION:Wenatchee High School (Dean's Den Conference Room)
URL;VALUE=URI:https://www.wenatcheeschools.org/lc/calendar/1939794/mmr-empl
 oyee-vaccination-clinic
DTSTART:20190213T230000Z
DTEND:20190214T010000Z
END:VEVENT
END:VCALENDAR
