BEGIN:VCALENDAR
VERSION:2.0
PRODID:SchoolNow
CALSCALE:GREGORIAN
BEGIN:VEVENT
UID:4d505d98-b305-11e9-8dc5-0a692082da6e
DTSTAMP:20190814T141226Z
SUMMARY:School Buildings Open for New Registrations
URL;VALUE=URI:https://www.wenatcheeschools.org/lc/calendar/2041942/school-b
 uildings-open-for-new-registrations
DTSTART:20190814T160000Z
DTEND:20190814T220000Z
END:VEVENT
END:VCALENDAR
