BEGIN:VCALENDAR
VERSION:2.0
PRODID:SchoolNow
CALSCALE:GREGORIAN
BEGIN:VEVENT
UID:af6b9866-7845-11ea-92af-0a399bffa065
DTSTAMP:20200406T203421Z
SUMMARY:Teacher Parade
URL;VALUE=URI:https://www.wenatcheeschools.org/lc/calendar/2229749/teacher-
 parade
DTSTART:20200408T003000Z
DTEND:20200408T013000Z
ATTACH;FILENAME=L & C Teacher Parade Routes 2020.pdf;FMTTYPE=application/pd
 f:https://campussuite-storage.s3.amazonaws.com/prod/3059/7610d33a-0c90-11e
 6-b537-22000bd8490f/2078383/a38213ea-7845-11ea-9e6e-0a399bffa065/file/L & 
 C Teacher Parade Routes 2020.pdf
END:VEVENT
END:VCALENDAR
