BEGIN:VCALENDAR
VERSION:2.0
PRODID:SchoolNow
CALSCALE:GREGORIAN
BEGIN:VEVENT
UID:11f1c7d0-7846-11ea-9c08-0aa136a1fcd9
DTSTAMP:20200406T203453Z
SUMMARY:Teacher Parade
URL;VALUE=URI:https://www.wenatcheeschools.org/lc/calendar/2229779/teacher-
 parade-clone
DTSTART:20200411T003000Z
DTEND:20200411T013000Z
ATTACH;FILENAME=L & C Teacher Parade Routes 2020.pdf;FMTTYPE=application/pd
 f:https://campussuite-storage.s3.amazonaws.com/prod/3059/7610d33a-0c90-11e
 6-b537-22000bd8490f/2078383/a38213ea-7845-11ea-9e6e-0a399bffa065/file/L & 
 C Teacher Parade Routes 2020.pdf
END:VEVENT
END:VCALENDAR
