BEGIN:VCALENDAR
VERSION:2.0
PRODID:SchoolNow
CALSCALE:GREGORIAN
BEGIN:VEVENT
UID:6b576c8c-7e84-11ea-bb80-0a165b587669
DTSTAMP:20200414T191700Z
SUMMARY:Lewis & Clark Device Distribution
URL;VALUE=URI:https://www.wenatcheeschools.org/lc/calendar/2236627/lewis-cl
 ark-device-distribution-4-6-p-m
DTSTART:20200415T230000Z
DTEND:20200416T010000Z
END:VEVENT
END:VCALENDAR
