BEGIN:VCALENDAR
VERSION:2.0
PRODID:SchoolNow
CALSCALE:GREGORIAN
BEGIN:VEVENT
UID:5fec74ee-e0c4-11ea-b6a5-1215043c01cd
DTSTAMP:20200817T200101Z
SUMMARY:Chromebook Pick-Up
URL;VALUE=URI:https://www.wenatcheeschools.org/lc/calendar/2309104/chromebo
 ok-pick-up
DTSTART:20200818T230000Z
DTEND:20200819T030000Z
END:VEVENT
END:VCALENDAR
