BEGIN:VCALENDAR
VERSION:2.0
PRODID:SchoolNow
CALSCALE:GREGORIAN
BEGIN:VEVENT
UID:933fa698-febc-11ea-92b6-0aef78bff131
DTSTAMP:20200928T215120Z
SUMMARY:Migrant Bilingual PAC Meeting
URL;VALUE=URI:https://www.wenatcheeschools.org/lc/calendar/2384578/pac-offi
 cers-meeting-clone
DTSTART:20201008T003000Z
DTEND:20201008T020000Z
END:VEVENT
END:VCALENDAR
