BEGIN:VCALENDAR
VERSION:2.0
PRODID:SchoolNow
CALSCALE:GREGORIAN
BEGIN:VEVENT
UID:210553ac-f939-11eb-b914-0ed9296f2167
DTSTAMP:20210809T174212Z
SUMMARY:Lewis & Clark - Meet Your Teacher Night
URL;VALUE=URI:https://www.wenatcheeschools.org/lc/calendar/2661352/lewis-cl
 ark-meet-your-teacher-night
DTSTART:20210824T010000Z
DTEND:20210824T020000Z
END:VEVENT
END:VCALENDAR
