BEGIN:VCALENDAR
VERSION:2.0
PRODID:SchoolNow
CALSCALE:GREGORIAN
BEGIN:VEVENT
UID:37f742ec-8510-11ec-8d27-0ea8e990170f
DTSTAMP:20220203T164204Z
SUMMARY:WHS Presents Frozen!
LOCATION:WHS Auditorium
URL;VALUE=URI:https://www.wenatcheeschools.org/lc/calendar/3090490/whs-pres
 ents-frozen-clone
DTSTART:20220317T020000Z
DTEND:20220320T040000Z
END:VEVENT
END:VCALENDAR
