BEGIN:VCALENDAR
VERSION:2.0
PRODID:SchoolNow
CALSCALE:GREGORIAN
BEGIN:VEVENT
UID:296aacf8-1720-11ed-8fe2-0e98680ab9b5
DTSTAMP:20220808T134401Z
SUMMARY:School Photo Day
URL;VALUE=URI:https://www.wenatcheeschools.org/lc/calendar/3273546/school-p
 hoto-day
DTSTART:20220927T134300Z
DTEND:20220927T144300Z
END:VEVENT
END:VCALENDAR
