BEGIN:VCALENDAR
VERSION:2.0
PRODID:SchoolNow
CALSCALE:GREGORIAN
BEGIN:VEVENT
UID:5645d23a-69cc-11ed-892c-029d2943f68f
DTSTAMP:20221121T184306Z
SUMMARY:Superintendent Search Public Forum (Spanish)
LOCATION:Wenatchee High School Commons\, 1101 MIllerdale Avenue\, Wenatchee
 \, WA
URL;VALUE=URI:https://www.wenatcheeschools.org/lc/calendar/3620267/superint
 endent-search-public-forum-clone
DTSTART:20221202T023000Z
DTEND:20221202T033000Z
END:VEVENT
END:VCALENDAR
