BEGIN:VCALENDAR
VERSION:2.0
PRODID:SchoolNow
CALSCALE:GREGORIAN
BEGIN:VEVENT
UID:c9ccecb0-0ad1-11ee-abf1-020612d018e5
DTSTAMP:20230614T163744Z
SUMMARY:Opening Day for Staff
LOCATION:Wenatchee High School
URL;VALUE=URI:https://www.wenatcheeschools.org/lc/calendar/4387891/opening-
 day-for-staff
DTSTART:20230822T140000Z
DTEND:20230822T170000Z
END:VEVENT
END:VCALENDAR
