BEGIN:VCALENDAR
VERSION:2.0
PRODID:SchoolNow
CALSCALE:GREGORIAN
BEGIN:VEVENT
UID:b8514f06-7739-11ee-9c83-0a7889aac665
DTSTAMP:20231030T153348Z
SUMMARY:5th Grade Puberty Zoom Meeting
URL;VALUE=URI:https://www.wenatcheeschools.org/lc/calendar/4911950/5th-grad
 e-puberty-zoom-meeting
DTSTART:20231115T020000Z
DTEND:20231115T030000Z
END:VEVENT
END:VCALENDAR
