BEGIN:VCALENDAR
VERSION:2.0
PRODID:SchoolNow
CALSCALE:GREGORIAN
BEGIN:VEVENT
UID:d1fa742c-7e42-11ee-b2d3-0eadec95f4c1
DTSTAMP:20231108T142918Z
SUMMARY:Reception for School Board Director Laura Jaecks
LOCATION:District Central Office\, 235 Sunset Ave. Wenatchee
URL;VALUE=URI:https://www.wenatcheeschools.org/lc/calendar/4935111/receptio
 n-for-school-board-director-laura-jaecks
DTSTART:20231115T013000Z
DTEND:20231115T020000Z
END:VEVENT
END:VCALENDAR
