BEGIN:VCALENDAR
VERSION:2.0
PRODID:SchoolNow
CALSCALE:GREGORIAN
BEGIN:VEVENT
UID:2e0c0dc8-324a-11ef-93a3-0a58a9feac02
DTSTAMP:20240624T165245Z
SUMMARY:Back to School - Meet your Teacher\, Ice Cream Social
URL;VALUE=URI:https://www.wenatcheeschools.org/lc/calendar/6162440/back-to-
 school-meet-your-teacher-ice-cream-social
DTSTART:20240823T003000Z
DTEND:20240823T013000Z
END:VEVENT
END:VCALENDAR
