BEGIN:VCALENDAR
VERSION:2.0
PRODID:SchoolNow
CALSCALE:GREGORIAN
BEGIN:VEVENT
UID:9a8b28fa-4c55-11f0-8494-0ef924d70cdd
DTSTAMP:20250618T150459Z
SUMMARY:Parson's School Photo Day
URL;VALUE=URI:https://www.wenatcheeschools.org/lc/calendar/8324301/parsons-
 school-photo-day
DTSTART;VALUE=DATE:20250923
DTEND;VALUE=DATE:20250924
END:VEVENT
END:VCALENDAR
