BEGIN:VCALENDAR
VERSION:2.0
PRODID:SchoolNow
CALSCALE:GREGORIAN
BEGIN:VEVENT
UID:3e797136-5bad-11f0-b8c2-0a58a9feac02
DTSTAMP:20260419T154509Z
SUMMARY:PTSA Mtg.
URL;VALUE=URI:https://www.wenatcheeschools.org/lc/calendar/8394616/ptsa-mtg
DTSTART:20260212T020000Z
DTEND:20260212T030000Z
END:VEVENT
END:VCALENDAR
