BEGIN:VCALENDAR
VERSION:2.0
PRODID:SchoolNow
CALSCALE:GREGORIAN
BEGIN:VEVENT
UID:3e797226-5bad-11f0-8d31-0a58a9feac02
DTSTAMP:20260419T154509Z
SUMMARY:PTSA Mtg.
URL;VALUE=URI:https://www.wenatcheeschools.org/lc/calendar/8394617/ptsa-mtg
DTSTART:20260312T010000Z
DTEND:20260312T020000Z
END:VEVENT
END:VCALENDAR
