BEGIN:VCALENDAR
VERSION:2.0
PRODID:SchoolNow
CALSCALE:GREGORIAN
BEGIN:VEVENT
UID:8728e0b4-5c12-11f0-afc4-0249cd025c3f
DTSTAMP:20260419T154509Z
SUMMARY:Winter Break: No School
URL;VALUE=URI:https://www.wenatcheeschools.org/lc/calendar/8396017/winter-b
 reak-no-school
DTSTART;VALUE=DATE:20251229
DTEND;VALUE=DATE:20260103
END:VEVENT
END:VCALENDAR
