BEGIN:VCALENDAR
VERSION:2.0
PRODID:SchoolNow
CALSCALE:GREGORIAN
BEGIN:VEVENT
UID:8728e19a-5c12-11f0-95cb-0249cd025c3f
DTSTAMP:20260419T154509Z
SUMMARY:MLK Day: No School
URL;VALUE=URI:https://www.wenatcheeschools.org/lc/calendar/8396018/mlk-day-
 no-school
DTSTART;VALUE=DATE:20260119
DTEND;VALUE=DATE:20260120
END:VEVENT
END:VCALENDAR
