BEGIN:VCALENDAR
VERSION:2.0
PRODID:SchoolNow
CALSCALE:GREGORIAN
BEGIN:VEVENT
UID:8728e28a-5c12-11f0-95ae-0249cd025c3f
DTSTAMP:20260419T154509Z
SUMMARY:Records Day: No School
URL;VALUE=URI:https://www.wenatcheeschools.org/lc/calendar/8396019/records-
 day-no-school
DTSTART;VALUE=DATE:20260123
DTEND;VALUE=DATE:20260124
END:VEVENT
END:VCALENDAR
