BEGIN:VCALENDAR
VERSION:2.0
PRODID:SchoolNow
CALSCALE:GREGORIAN
BEGIN:VEVENT
UID:8728e370-5c12-11f0-929c-0249cd025c3f
DTSTAMP:20260419T154509Z
SUMMARY:Staff PD Day: No School
URL;VALUE=URI:https://www.wenatcheeschools.org/lc/calendar/8396020/staff-pd
 -day-no-school
DTSTART;VALUE=DATE:20260206
DTEND;VALUE=DATE:20260207
END:VEVENT
END:VCALENDAR
