BEGIN:VCALENDAR
VERSION:2.0
PRODID:SchoolNow
CALSCALE:GREGORIAN
BEGIN:VEVENT
UID:8728e456-5c12-11f0-bb05-0249cd025c3f
DTSTAMP:20260419T154509Z
SUMMARY:President's Day: No School
URL;VALUE=URI:https://www.wenatcheeschools.org/lc/calendar/8396021/presiden
 ts-day-no-school
DTSTART;VALUE=DATE:20260216
DTEND;VALUE=DATE:20260217
END:VEVENT
END:VCALENDAR
