BEGIN:VCALENDAR
VERSION:2.0
PRODID:SchoolNow
CALSCALE:GREGORIAN
BEGIN:VEVENT
UID:8728e532-5c12-11f0-9f71-0249cd025c3f
DTSTAMP:20260419T154509Z
SUMMARY:Staff PD Day: No School
URL;VALUE=URI:https://www.wenatcheeschools.org/lc/calendar/8396022/staff-pd
 -day-no-school
DTSTART;VALUE=DATE:20260306
DTEND;VALUE=DATE:20260307
END:VEVENT
END:VCALENDAR
