BEGIN:VCALENDAR
VERSION:2.0
PRODID:SchoolNow
CALSCALE:GREGORIAN
BEGIN:VEVENT
UID:8728e60e-5c12-11f0-9d31-0249cd025c3f
DTSTAMP:20260419T154509Z
SUMMARY:Spring Conference Day
URL;VALUE=URI:https://www.wenatcheeschools.org/lc/calendar/8396023/spring-c
 onference-day
DTSTART;VALUE=DATE:20260320
DTEND;VALUE=DATE:20260321
END:VEVENT
END:VCALENDAR
