BEGIN:VCALENDAR
VERSION:2.0
PRODID:SchoolNow
CALSCALE:GREGORIAN
BEGIN:VEVENT
UID:8728e6ea-5c12-11f0-adcb-0249cd025c3f
DTSTAMP:20260419T154509Z
SUMMARY:Spring Break: No School
URL;VALUE=URI:https://www.wenatcheeschools.org/lc/calendar/8396024/spring-b
 reak-no-school
DTSTART;VALUE=DATE:20260406
DTEND;VALUE=DATE:20260411
END:VEVENT
END:VCALENDAR
