BEGIN:VCALENDAR
VERSION:2.0
PRODID:SchoolNow
CALSCALE:GREGORIAN
BEGIN:VEVENT
UID:8728e988-5c12-11f0-bed7-0249cd025c3f
DTSTAMP:20260419T154509Z
SUMMARY:Last Day of School (11:30 dismissal)
URL;VALUE=URI:https://www.wenatcheeschools.org/lc/calendar/8396027/last-day
 -of-school-11-30-dismissal
DTSTART;VALUE=DATE:20260612
DTEND;VALUE=DATE:20260613
END:VEVENT
END:VCALENDAR
