BEGIN:VCALENDAR
VERSION:2.0
PRODID:SchoolNow
CALSCALE:GREGORIAN
BEGIN:VEVENT
UID:a51c6608-7db0-11f0-906e-0a58a9feac02
DTSTAMP:20260419T154509Z
SUMMARY:Bingo Night
URL;VALUE=URI:https://www.wenatcheeschools.org/lc/calendar/8524692/bingo-ni
 ght
DTSTART;VALUE=DATE:20260130
DTEND;VALUE=DATE:20260131
END:VEVENT
END:VCALENDAR
