BEGIN:VCALENDAR
VERSION:2.0
PRODID:SchoolNow
CALSCALE:GREGORIAN
BEGIN:VEVENT
UID:a51c6766-7db0-11f0-a68c-0a58a9feac02
DTSTAMP:20260419T154509Z
SUMMARY:Penny Wars
URL;VALUE=URI:https://www.wenatcheeschools.org/lc/calendar/8524693/penny-wa
 rs
DTSTART;VALUE=DATE:20260325
DTEND;VALUE=DATE:20260328
END:VEVENT
END:VCALENDAR
