BEGIN:VCALENDAR
VERSION:2.0
PRODID:SchoolNow
CALSCALE:GREGORIAN
BEGIN:VEVENT
UID:a51c686a-7db0-11f0-9015-0a58a9feac02
DTSTAMP:20260419T154509Z
SUMMARY:L&C Jog-a-Thon
URL;VALUE=URI:https://www.wenatcheeschools.org/lc/calendar/8524694/l-c-jog-
 a-thon
DTSTART;VALUE=DATE:20260508
DTEND;VALUE=DATE:20260509
END:VEVENT
END:VCALENDAR
