BEGIN:VCALENDAR
VERSION:2.0
PRODID:SchoolNow
CALSCALE:GREGORIAN
BEGIN:VEVENT
UID:a096ba68-ec1c-11f0-8dd9-0a58a9feac02
DTSTAMP:20260419T154509Z
SUMMARY:Spring Picture Day (Class and Personality)
URL;VALUE=URI:https://www.wenatcheeschools.org/lc/calendar/8832551/spring-p
 icture-day-class-and-personality
DTSTART;VALUE=DATE:20260219
DTEND;VALUE=DATE:20260220
END:VEVENT
END:VCALENDAR
