BEGIN:VCALENDAR
VERSION:2.0
PRODID:SchoolNow
CALSCALE:GREGORIAN
BEGIN:VEVENT
UID:07fd6eee-0c17-11f1-b9b3-0221fbe23d43
DTSTAMP:20260217T154048Z
SUMMARY:Dual Language Discovery Drop-In at Lewis & Clark Elementary
LOCATION:Lewis & Clark Elementary\, 1130 Princeton Street Wenatchee\, WA
URL;VALUE=URI:https://www.wenatcheeschools.org/lc/calendar/8857717/dual-lan
 guage-discovery-drop-in-at-lewis-clark-elementary
DTSTART:20260311T010000Z
DTEND:20260311T023000Z
END:VEVENT
END:VCALENDAR
