BEGIN:VCALENDAR
VERSION:2.0
PRODID:SchoolNow
CALSCALE:GREGORIAN
BEGIN:VEVENT
UID:4135c3fa-0c17-11f1-9652-0a58a9feac02
DTSTAMP:20260217T154224Z
SUMMARY:Dual Language Discovery Drop-In at Lewis & Clark Elementary
LOCATION:Lewis & Clark Elementary\, 1130 Princeton Street Wenatchee\, WA
URL;VALUE=URI:https://www.wenatcheeschools.org/lc/calendar/8857719/dual-lan
 guage-discovery-drop-in-at-lewis-clark-elementary-clone
DTSTART:20260313T010000Z
DTEND:20260313T023000Z
END:VEVENT
END:VCALENDAR
