BEGIN:VCALENDAR
VERSION:2.0
PRODID:SchoolNow
CALSCALE:GREGORIAN
BEGIN:VEVENT
UID:c5beb5b2-3941-11f1-89fa-0afff2a06d3d
DTSTAMP:20260419T154509Z
SUMMARY:PTSA Meeting
URL;VALUE=URI:https://www.wenatcheeschools.org/lc/calendar/8997066/ptsa-mee
 ting
DTSTART:20260416T010000Z
DTEND:20260416T020000Z
END:VEVENT
END:VCALENDAR
