BEGIN:VCALENDAR
VERSION:2.0
PRODID:SchoolNow
CALSCALE:GREGORIAN
BEGIN:VEVENT
UID:09b87c0a-3756-11f1-b96b-0a58a9feac02
DTSTAMP:20260421T070009Z
SUMMARY:3rd Grade Native American Showcase
URL;VALUE=URI:https://www.wenatcheeschools.org/lin/calendar/8990853/3rd-gra
 de-native-american-showcase
DTSTART:20260604T204500Z
DTEND:20260604T213000Z
END:VEVENT
END:VCALENDAR
