BEGIN:VCALENDAR
VERSION:2.0
PRODID:SchoolNow
CALSCALE:GREGORIAN
BEGIN:VEVENT
UID:c6eee032-c04a-11e9-8c37-120acc98da32
DTSTAMP:20190816T172500Z
SUMMARY:Wenatchee School District Budget Information Meeting
LOCATION:Wenatchee High School\, New Commons  1101 Millerdale Ave.
URL;VALUE=URI:https://www.wenatcheeschools.org/nb/calendar/2067301/wenatche
 e-school-district-budget-information-meeting
DTSTART:20190822T010000Z
DTEND:20190822T020000Z
END:VEVENT
END:VCALENDAR
