BEGIN:VCALENDAR
VERSION:2.0
PRODID:SchoolNow
CALSCALE:GREGORIAN
BEGIN:VEVENT
UID:82436ba6-15e5-11ea-a364-129fa5e090f5
DTSTAMP:20191203T155646Z
SUMMARY:2019 Beauty of Bronze Student Exhibit
LOCATION:Wenatchee Valley Museum & Cultural Center\, 127 S. Mission St.
URL;VALUE=URI:https://www.wenatcheeschools.org/nb/calendar/2153864/2019-bea
 uty-of-bronze-student-exhibit
DTSTART:20191206T180000Z
DTEND:20200104T180000Z
END:VEVENT
END:VCALENDAR
