BEGIN:VCALENDAR
VERSION:2.0
PRODID:SchoolNow
CALSCALE:GREGORIAN
BEGIN:VEVENT
UID:799090f4-746f-11ea-be77-127828d8edd3
DTSTAMP:20200401T232111Z
SUMMARY:Computer Checkout  (Newbery\, L&C\, Sunnyslope\, Washington\, Castl
 erock ECLC\, FMS and WHS)
URL;VALUE=URI:https://www.wenatcheeschools.org/nb/calendar/2228532/computer
 -checkout-clone
DTSTART:20200409T220000Z
DTEND:20200410T010000Z
END:VEVENT
END:VCALENDAR
