BEGIN:VCALENDAR
VERSION:2.0
PRODID:SchoolNow
CALSCALE:GREGORIAN
BEGIN:VEVENT
UID:c57e91c8-0cc7-11eb-a4f4-0a3aff5df9d1
DTSTAMP:20201012T201831Z
SUMMARY:Free COVID Testing at WHS
LOCATION:Wenatchee High School
URL;VALUE=URI:https://www.wenatcheeschools.org/nb/calendar/2448518/free-cov
 id-testing-clone-clone
DTSTART:20201015T200000Z
DTEND:20201016T010000Z
END:VEVENT
END:VCALENDAR
