BEGIN:VCALENDAR
VERSION:2.0
PRODID:SchoolNow
CALSCALE:GREGORIAN
BEGIN:VEVENT
UID:6244cc7e-ff8a-11eb-887c-022547f589a1
DTSTAMP:20210817T183858Z
SUMMARY:Meet Your Teacher
LOCATION:John Newbery Elementary School
URL;VALUE=URI:https://www.wenatcheeschools.org/nb/calendar/2676162/meet-you
 r-teacher
DTSTART:20210820T003000Z
DTEND:20210820T013000Z
ATTACH;FILENAME=Meet Your Teacher Map (3).jpg;FMTTYPE=image/jpeg:https://ca
 mpussuite-storage.s3.amazonaws.com/prod/3059/7610d33a-0c90-11e6-b537-22000
 bd8490f/2302682/fc75e1a8-ff89-11eb-a02c-022547f589a1/file/Meet Your Teache
 r Map (3).jpg
ATTACH;FILENAME=32.jpeg;FMTTYPE=image/jpeg:https://campussuite-storage.s3.a
 mazonaws.com/prod/3059/7610d33a-0c90-11e6-b537-22000bd8490f/2302681/fc75cf
 ba-ff89-11eb-8d15-022547f589a1/file/32.jpeg
ATTACH;FILENAME=32 (1).jpeg;FMTTYPE=image/jpeg:https://campussuite-storage.
 s3.amazonaws.com/prod/3059/7610d33a-0c90-11e6-b537-22000bd8490f/2302680/fc
 75c92a-ff89-11eb-b6fa-022547f589a1/file/32 (1).jpeg
END:VEVENT
END:VCALENDAR
