BEGIN:VCALENDAR
VERSION:2.0
PRODID:SchoolNow
CALSCALE:GREGORIAN
BEGIN:VEVENT
UID:9105e322-850e-11ec-8cd1-0ea8e990170f
DTSTAMP:20220203T163616Z
SUMMARY:WHS Presents Frozen!
LOCATION:WHS Auditorium
URL;VALUE=URI:https://www.wenatcheeschools.org/nb/calendar/3090325/whs-pres
 ents-frozen
DTSTART:20220303T030000Z
DTEND:20220306T050000Z
END:VEVENT
END:VCALENDAR
