BEGIN:VCALENDAR
VERSION:2.0
PRODID:SchoolNow
CALSCALE:GREGORIAN
BEGIN:VEVENT
UID:2cb2f1e2-546d-11ed-b2ac-02ee85d92177
DTSTAMP:20221025T135859Z
SUMMARY:DON'T WAIT to UnMake a Bully™
LOCATION:Numerica Performing Arts Center\, 123 N Wenatchee Ave\, Wenatchee\
 , WA 98801
URL;VALUE=URI:https://www.wenatcheeschools.org/nb/calendar/3558620/dont-wai
 t-to-unmake-a-bully
DTSTART:20221110T023000Z
DTEND:20221110T033000Z
ATTACH;FILENAME=DWP PREMIERE FLYER COLOR S-E.pdf;FMTTYPE=application/pdf:ht
 tps://campussuite-storage.s3.amazonaws.com/prod/3059/7610d33a-0c90-11e6-b5
 37-22000bd8490f/2496904/da0045ee-546c-11ed-84b4-02ee85d92177/file/DWP PREM
 IERE FLYER COLOR S-E.pdf
END:VEVENT
END:VCALENDAR
