BEGIN:VCALENDAR
VERSION:2.0
PRODID:SchoolNow
CALSCALE:GREGORIAN
BEGIN:VEVENT
UID:35eb5298-2fa7-11ee-96e3-0a58a9feac02
DTSTAMP:20230808T144655Z
SUMMARY:School Offices Open
URL;VALUE=URI:https://www.wenatcheeschools.org/nb/calendar/4534609/school-o
 ffices-open
DTSTART:20230815T133400Z
DTEND:20230815T143400Z
END:VEVENT
END:VCALENDAR
