BEGIN:VCALENDAR
VERSION:2.0
PRODID:SchoolNow
CALSCALE:GREGORIAN
BEGIN:VEVENT
UID:190e1862-6d1f-11ee-a881-0a58a9feac02
DTSTAMP:20231017T185802Z
SUMMARY:Unmake a Bully Student Film Premiere
LOCATION:Liberty Cinema (Theater #1)
URL;VALUE=URI:https://www.wenatcheeschools.org/nb/calendar/4875090/unmake-a
 -bully-student-film-premiere
DTSTART:20231110T023000Z
DTEND:20231110T033000Z
ATTACH;FILENAME=DWP UNMAKE PREMIERE FLYER.pdf;FMTTYPE=application/pdf:https
 ://campussuite-storage.s3.amazonaws.com/prod/3059/7610d33a-0c90-11e6-b537-
 22000bd8490f/2682351/ee47ea9a-6d1e-11ee-b987-0a58a9feac02/file/DWP UNMAKE 
 PREMIERE FLYER.pdf
END:VEVENT
END:VCALENDAR
