BEGIN:VCALENDAR
VERSION:2.0
PRODID:SchoolNow
CALSCALE:GREGORIAN
BEGIN:VEVENT
UID:d31a76e8-3316-11ef-8638-02e4f722c911
DTSTAMP:20240625T171739Z
SUMMARY:All-District Musical Auditions: Roald Dahl's Charlie and the Chocol
 ate Factory
LOCATION:WHS Auditorium
URL;VALUE=URI:https://www.wenatcheeschools.org/nb/calendar/6166338/all-dist
 rict-musical-auditions-roald-dahls-charlie-and-the-chocolate-factory
DTSTART:20240909T213000Z
DTEND:20240909T223000Z
END:VEVENT
END:VCALENDAR
