BEGIN:VCALENDAR
VERSION:2.0
PRODID:SchoolNow
CALSCALE:GREGORIAN
BEGIN:VEVENT
UID:7fcc5b76-3318-11ef-b6c5-0207b6667fb3
DTSTAMP:20240625T172938Z
SUMMARY:Callbacks for All-District Musical Auditions: Roald Dahl's Charlie 
 and the Chocolate Factory
URL;VALUE=URI:https://www.wenatcheeschools.org/nb/calendar/6166353/callback
 s-for-all-district-musical-auditions-roald-dahls-charlie-and-the-chocolate
 -factory
DTSTART;VALUE=DATE:20240912
DTEND;VALUE=DATE:20240914
END:VEVENT
END:VCALENDAR
