BEGIN:VCALENDAR
VERSION:2.0
PRODID:SchoolNow
CALSCALE:GREGORIAN
BEGIN:VEVENT
UID:0292633a-4b69-11ef-930d-0a58a9feac02
DTSTAMP:20240726T160625Z
SUMMARY:School Photo Day
URL;VALUE=URI:https://www.wenatcheeschools.org/nb/calendar/6313140/school-p
 hoto-day
DTSTART:20241008T160500Z
DTEND:20241008T170500Z
END:VEVENT
END:VCALENDAR
