BEGIN:VCALENDAR
VERSION:2.0
PRODID:SchoolNow
CALSCALE:GREGORIAN
BEGIN:VEVENT
UID:6fa567c4-78a4-11f0-9c77-0a58a9feac02
DTSTAMP:20260421T052508Z
SUMMARY:Newbery PTA Meeting
LOCATION:https://wenatcheeschools-org.zoom.us/j/99967415808?jst=3
URL;VALUE=URI:https://www.wenatcheeschools.org/nb/calendar/8506217/newbery-
 pta-meeting
DTSTART:20270211T020000Z
DTEND:20270211T030000Z
END:VEVENT
END:VCALENDAR
