BEGIN:VCALENDAR
VERSION:2.0
PRODID:SchoolNow
CALSCALE:GREGORIAN
BEGIN:VEVENT
UID:6fa568aa-78a4-11f0-b712-0a58a9feac02
DTSTAMP:20260421T173009Z
SUMMARY:Newbery PTA Meeting
LOCATION:https://wenatcheeschools-org.zoom.us/j/99967415808?jst=3
URL;VALUE=URI:https://www.wenatcheeschools.org/nb/calendar/8506218/newbery-
 pta-meeting
DTSTART:20270311T020000Z
DTEND:20270311T030000Z
END:VEVENT
END:VCALENDAR
