BEGIN:VCALENDAR
VERSION:2.0
PRODID:SchoolNow
CALSCALE:GREGORIAN
BEGIN:VEVENT
UID:a2440b90-ed57-11f0-aa1e-0a58a9feac02
DTSTAMP:20260421T173009Z
SUMMARY:Newbery PTA Meeting
LOCATION:https://wenatcheeschools-org.zoom.us/j/99967415808?jst=3
URL;VALUE=URI:https://www.wenatcheeschools.org/nb/calendar/8833252/newbery-
 pta-meeting
DTSTART:20270909T010000Z
DTEND:20270909T020000Z
END:VEVENT
END:VCALENDAR
